BEGIN:VCALENDAR
VERSION:2.0
PRODID:-//Squarespace Inc/Squarespace 6//v6//EN
BEGIN:VEVENT
UID:57b581c99de4bb1ba92ce823@squarespace.com
DTSTAMP:20160818T103732Z
DTSTART:20160909T070000Z
DTEND:20160909T090000Z
SUMMARY:LMWT - Controversial Makes
END:VEVENT
END:VCALENDAR
