BEGIN:VCALENDAR
VERSION:2.0
PRODID:-//Squarespace Inc/Squarespace 6//v6//EN
BEGIN:VEVENT
UID:57b584a1d482e934043f0ce9@squarespace.com
DTSTAMP:20160818T103700Z
DTSTART:20160908T043000Z
DTEND:20160908T080000Z
SUMMARY:LMWT - Incubator Scratch Night
END:VEVENT
END:VCALENDAR
