BEGIN:VCALENDAR
VERSION:2.0
PRODID:-//Squarespace Inc/Squarespace 6//v6//EN
BEGIN:VEVENT
UID:57b5815eff7c506aed6f0dba@squarespace.com
DTSTAMP:20160818T103624Z
DTSTART:20160904T020000Z
DTEND:20160904T033000Z
SUMMARY:LMWT - Finding a Performance Space
END:VEVENT
END:VCALENDAR
