BEGIN:VCALENDAR
VERSION:2.0
PRODID:-//Squarespace Inc/Squarespace 6//v6//EN
BEGIN:VEVENT
UID:560b019ae4b04178440784ec@squarespace.com
DTSTAMP:20151012T073750Z
DTSTART:20151016T220000Z
DTEND:20151016T230000Z
SUMMARY:Sing It To My Face Carterton
GEO:-41.025425;175.529956
LOCATION:Carterton School Hall\, Dixon Street\, Carterton\, Wellington\, 57
 13\, New Zealand
END:VEVENT
END:VCALENDAR
