BEGIN:VCALENDAR
VERSION:2.0
PRODID:-//Squarespace Inc/Squarespace 6//v6//EN
BEGIN:VEVENT
UID:57bb7a04d482e9898ca65cb7@squarespace.com
DTSTAMP:20160822T221847Z
DTSTART:20160903T040000Z
DTEND:20160903T053000Z
SUMMARY:LMWT - Upfront Feedback
END:VEVENT
END:VCALENDAR
