BEGIN:VCALENDAR
VERSION:2.0
PRODID:-//Squarespace Inc/Squarespace 6//v6//EN
BEGIN:VEVENT
UID:57b5808dbe6594026c3ed2b5@squarespace.com
DTSTAMP:20160822T221918Z
DTSTART:20160903T053000Z
DTEND:20160903T073000Z
SUMMARY:LMWT - Let's Dance Together!
END:VEVENT
END:VCALENDAR
