BEGIN:VCALENDAR
VERSION:2.0
PRODID:-//Squarespace Inc/Squarespace 6//v6//EN
BEGIN:VEVENT
UID:57b184b29f745655e87ff2a0@squarespace.com
DTSTAMP:20160818T103343Z
DTSTART:20160828T050000Z
DTEND:20160910T000000Z
SUMMARY:Let'sMakeWorkTogether
GEO:-41.314179;174.76439
LOCATION:Vogelmorn Bowling Club\, 93 Mornington Road\, Wellington\, Welling
 ton\, 6021\, New Zealand
END:VEVENT
END:VCALENDAR
