BEGIN:VCALENDAR
VERSION:2.0
PRODID:-//Squarespace Inc/Squarespace 6//v6//EN
BEGIN:VEVENT
UID:57ba1e77e3df2876f5487e6c@squarespace.com
DTSTAMP:20160821T213636Z
DTSTART:20160827T020000Z
DTEND:20160827T050000Z
SUMMARY:LMWT - The Birds and The Bees
END:VEVENT
END:VCALENDAR
