BEGIN:VCALENDAR
VERSION:2.0
PRODID:-//Squarespace Inc/Squarespace 6//v6//EN
BEGIN:VEVENT
UID:563aa012e4b0528d9939456d@squarespace.com
DTSTAMP:20151105T002102Z
DTSTART:20151124T003000Z
DTEND:20151127T043000Z
SUMMARY:All Good? - Conversations of the Hairdresser
GEO:-41.134494;174.841314
LOCATION:TEZA Hub\, Lydney Pl\, Porirua\, Wellington\, 5022\, New Zealand
END:VEVENT
END:VCALENDAR
