BEGIN:VCALENDAR
VERSION:2.0
PRODID:-//Squarespace Inc/Squarespace 6//v6//EN
BEGIN:VEVENT
UID:560b0319e4b03cd1555a928e@squarespace.com
DTSTAMP:20150929T213204Z
DTSTART:20151017T220000Z
DTEND:20151017T230000Z
SUMMARY:Sing It To My Face Greytown
GEO:-41.083388;175.458927
LOCATION:Kuranui College\, East Street\, Greytown\, Wellington\, New Zealan
 d
END:VEVENT
END:VCALENDAR
