BEGIN:VCALENDAR
VERSION:2.0
PRODID:-//Squarespace Inc/Squarespace 6//v6//EN
BEGIN:VEVENT
UID:560b0365e4b0bffa02d82e8f@squarespace.com
DTSTAMP:20150929T213339Z
DTSTART:20151018T020000Z
DTEND:20151018T030000Z
SUMMARY:Sing It To My Face Martinborough
GEO:-41.219093;175.460065
LOCATION:Martinborough Town Hall\, Martinborough\, New Zealand
END:VEVENT
END:VCALENDAR
