BEGIN:VCALENDAR
VERSION:2.0
PRODID:-//Squarespace Inc/Squarespace 6//v6//EN
BEGIN:VEVENT
UID:560b027fe4b081ffdfe3bf97@squarespace.com
DTSTAMP:20150929T212959Z
DTSTART:20151017T020000Z
DTEND:20151017T030000Z
SUMMARY:Sing It To My Face Masterton
GEO:-40.957307;175.641435
LOCATION:Masterton Intermediate School\, 38 Intermediate Street\, Masterton
 \, Wellington\, 5810\, New Zealand
END:VEVENT
END:VCALENDAR
