BEGIN:VCALENDAR
VERSION:2.0
PRODID:-//Squarespace Inc/Squarespace 6//v6//EN
BEGIN:VEVENT
UID:57cf6bb23e00beaa1219f056@squarespace.com
DTSTAMP:20160907T021849Z
DTSTART:20160915T054500Z
DTEND:20160915T080000Z
SUMMARY:Rates Cuts
END:VEVENT
END:VCALENDAR
