BEGIN:VCALENDAR
VERSION:2.0
PRODID:-//Squarespace Inc/Squarespace 6//v6//EN
BEGIN:VEVENT
UID:564197abe4b0b6ef97b83fa3@squarespace.com
DTSTAMP:20151110T071043Z
DTSTART:20151114T050000Z
DTEND:20151114T060000Z
SUMMARY:RAD Talks
GEO:-41.293982;174.782109
LOCATION:Paramount Theatre\, Bergman Suite\, 27 Courtenay Pl\, Wellington\, 
 Wellington\, 6011\, New Zealand
END:VEVENT
END:VCALENDAR
