BEGIN:VCALENDAR
VERSION:2.0
PRODID:-//Squarespace Inc/Squarespace 6//v6//EN
BEGIN:VEVENT
UID:55da62ade4b072906c9cfe60@squarespace.com
DTSTAMP:20150828T000957Z
DTSTART:20150913T030000Z
DTEND:20150913T050000Z
SUMMARY:Poroporoaki / Reflection / Outcomes
END:VEVENT
END:VCALENDAR
