BEGIN:VCALENDAR
VERSION:2.0
PRODID:-//Squarespace Inc/Squarespace 6//v6//EN
BEGIN:VEVENT
UID:55da6264e4b0b042ba150bbd@squarespace.com
DTSTAMP:20150828T021908Z
DTSTART:20150912T230000Z
DTEND:20150913T010000Z
SUMMARY:Kate McIntosh Workshop
GEO:-41.314179;174.76439
LOCATION:Vogelmorn Bowling Club\, 93 Mornington Rd\, Wellington\, Wellingto
 n\, 6021\, New Zealand
END:VEVENT
END:VCALENDAR
