BEGIN:VCALENDAR
VERSION:2.0
PRODID:-//Squarespace Inc/Squarespace 6//v6//EN
BEGIN:VEVENT
UID:55dfa6e1e4b03b19dd205870@squarespace.com
DTSTAMP:20150828T021934Z
DTSTART:20150913T050000Z
DTEND:20150913T053000Z
SUMMARY:Community Zumba on the Lawn!
END:VEVENT
END:VCALENDAR
