BEGIN:VCALENDAR
VERSION:2.0
PRODID:-//Squarespace Inc/Squarespace 6//v6//EN
BEGIN:VEVENT
UID:55da6078e4b0245233773674@squarespace.com
DTSTAMP:20150901T003403Z
DTSTART:20150911T230000Z
DTEND:20150912T011500Z
SUMMARY:Hacking the City
GEO:-41.314179;174.76439
LOCATION:Vogelmorn Bowling Club\, 93 Mornington Rd\, Wellington\, Wellingto
 n\, 6021\, New Zealand
END:VEVENT
END:VCALENDAR
