BEGIN:VCALENDAR
VERSION:2.0
PRODID:-//Squarespace Inc/Squarespace 6//v6//EN
BEGIN:VEVENT
UID:55da61a1e4b07faafab37a62@squarespace.com
DTSTAMP:20150901T004314Z
DTSTART:20150912T020000Z
DTEND:20150912T040000Z
SUMMARY:Family Percussion Workshop
GEO:-41.314179;174.76439
LOCATION:Vogelmorn Bowling Club\, 93 Mornington Rd\, Wellington\, Wellingto
 n\, 6021\, New Zealand
END:VEVENT
END:VCALENDAR
