BEGIN:VCALENDAR
VERSION:2.0
PRODID:-//Squarespace Inc/Squarespace 6//v6//EN
BEGIN:VEVENT
UID:55da5b3ce4b0ce9ba81f25bb@squarespace.com
DTSTAMP:20150828T000043Z
DTSTART:20150911T000000Z
DTEND:20150911T013000Z
SUMMARY:Mind The Gap!
GEO:-41.314179;174.76439
LOCATION:Vogelmorn Bowling Club\, 93 Mornington Rd\, Wellington\, Wellingto
 n\, 6021\, New Zealand
END:VEVENT
END:VCALENDAR
