BEGIN:VCALENDAR
VERSION:2.0
PRODID:-//Squarespace Inc/Squarespace 6//v6//EN
BEGIN:VEVENT
UID:55da5a71e4b0b042ba14ebe0@squarespace.com
DTSTAMP:20150828T022233Z
DTSTART:20150910T083000Z
DTEND:20150912T093000Z
SUMMARY:All Ears
GEO:-41.293539;174.784505
LOCATION:BATS Theatre\, 1 Kent Terrace\, Wellington\, Wellington\, 6011\, N
 ew Zealand
END:VEVENT
END:VCALENDAR
