BEGIN:VCALENDAR
VERSION:2.0
PRODID:-//Squarespace Inc/Squarespace 6//v6//EN
BEGIN:VEVENT
UID:57b57f092994ca46e44d018c@squarespace.com
DTSTAMP:20160818T103430Z
DTSTART:20160901T060000Z
DTEND:20160901T073000Z
SUMMARY:LMWT - Respectful Representation panel discussion
END:VEVENT
END:VCALENDAR
